BEGIN:VCALENDAR
VERSION:2.0
PRODID:spatie/icalendar-generator
NAME:Eventkalender voluptas recusandae qui iure autem
X-WR-CALNAME:Eventkalender voluptas recusandae qui iure autem
BEGIN:VTIMEZONE
TZID:Europe/Zurich
BEGIN:STANDARD
DTSTART:20251026T030000
TZOFFSETFROM:+0200
TZOFFSETTO:+0100
END:STANDARD
BEGIN:DAYLIGHT
DTSTART:20260329T010000
TZOFFSETFROM:+0100
TZOFFSETTO:+0200
END:DAYLIGHT
END:VTIMEZONE
BEGIN:VTIMEZONE
TZID:UTC
BEGIN:STANDARD
DTSTART:20250725T124735
TZOFFSETFROM:+0000
TZOFFSETTO:+0000
END:STANDARD
END:VTIMEZONE
BEGIN:VEVENT
UID:45c48cce2e2d7fbdea1afc51c7c6ad26
DTSTAMP:20260421T124735Z
DTSTART;TZID=Europe/Zurich:20260314T222550
DTEND;TZID=Europe/Zurich:20260414T232043
SUMMARY:voluptas recusandae qui iure autem
DESCRIPTION:Temporibus aperiam quisquam magnam ducimus molestiae natus. Ea 
 sit dignissimos ut deleniti et deleniti. Vitae necessitatibus voluptas omn
 is.
STATUS:CONFIRMED
URL:https://nightly.pfadi-sa.ch/event/9
IMAGE;VALUE=URI;FMTTYPE=image/png;DISPLAY=BADGE:https://nightly.pfadi-sa.ch
 /build/assets/logo-Nx7_9A4W.png
END:VEVENT
END:VCALENDAR