BEGIN:VCALENDAR
VERSION:2.0
PRODID:spatie/icalendar-generator
NAME:Eventkalender pariatur labore est et voluptatibus
X-WR-CALNAME:Eventkalender pariatur labore est et voluptatibus
BEGIN:VTIMEZONE
TZID:Europe/Zurich
BEGIN:STANDARD
DTSTART:20251026T030000
TZOFFSETFROM:+0200
TZOFFSETTO:+0100
END:STANDARD
BEGIN:DAYLIGHT
DTSTART:20260329T010000
TZOFFSETFROM:+0100
TZOFFSETTO:+0200
END:DAYLIGHT
END:VTIMEZONE
BEGIN:VTIMEZONE
TZID:UTC
BEGIN:STANDARD
DTSTART:20250725T123439
TZOFFSETFROM:+0000
TZOFFSETTO:+0000
END:STANDARD
END:VTIMEZONE
BEGIN:VEVENT
UID:c9f0f895fb98ab9159f51fd0297e236d
DTSTAMP:20260421T123439Z
DTSTART;TZID=Europe/Zurich:20260224T134834
DTEND;TZID=Europe/Zurich:20260227T040250
SUMMARY:pariatur labore est et voluptatibus
DESCRIPTION:Laudantium quos aut hic enim. Est minus facilis ad id ex ea ali
 quam. Rerum placeat suscipit nihil dolore.
STATUS:CONFIRMED
URL:https://nightly.pfadi-sa.ch/event/8
IMAGE;VALUE=URI;FMTTYPE=image/png;DISPLAY=BADGE:https://nightly.pfadi-sa.ch
 /build/assets/logo-Nx7_9A4W.png
END:VEVENT
END:VCALENDAR