BEGIN:VCALENDAR
VERSION:2.0
PRODID:spatie/icalendar-generator
NAME:Eventkalender numquam vel quasi repellendus vel
X-WR-CALNAME:Eventkalender numquam vel quasi repellendus vel
BEGIN:VTIMEZONE
TZID:Europe/Zurich
BEGIN:STANDARD
DTSTART:20251026T030000
TZOFFSETFROM:+0200
TZOFFSETTO:+0100
END:STANDARD
BEGIN:DAYLIGHT
DTSTART:20260329T010000
TZOFFSETFROM:+0100
TZOFFSETTO:+0200
END:DAYLIGHT
END:VTIMEZONE
BEGIN:VTIMEZONE
TZID:UTC
BEGIN:STANDARD
DTSTART:20250725T123740
TZOFFSETFROM:+0000
TZOFFSETTO:+0000
END:STANDARD
END:VTIMEZONE
BEGIN:VEVENT
UID:8f14e45fceea167a5a36dedd4bea2543
DTSTAMP:20260421T123740Z
DTSTART;TZID=Europe/Zurich:20260214T203837
DTEND;TZID=Europe/Zurich:20260330T152013
SUMMARY:numquam vel quasi repellendus vel
DESCRIPTION:Voluptatem qui officia modi. Expedita molestiae adipisci aut qu
 i veritatis dolorum officia. Atque quo dolores corrupti et porro quasi id.
STATUS:CONFIRMED
URL:https://nightly.pfadi-sa.ch/event/7
IMAGE;VALUE=URI;FMTTYPE=image/png;DISPLAY=BADGE:https://nightly.pfadi-sa.ch
 /build/assets/logo-Nx7_9A4W.png
END:VEVENT
END:VCALENDAR