BEGIN:VCALENDAR
VERSION:2.0
PRODID:spatie/icalendar-generator
NAME:Eventkalender commodi id quod culpa cupiditate
X-WR-CALNAME:Eventkalender commodi id quod culpa cupiditate
BEGIN:VTIMEZONE
TZID:Europe/Zurich
BEGIN:STANDARD
DTSTART:20251026T030000
TZOFFSETFROM:+0200
TZOFFSETTO:+0100
END:STANDARD
BEGIN:DAYLIGHT
DTSTART:20260329T010000
TZOFFSETFROM:+0100
TZOFFSETTO:+0200
END:DAYLIGHT
END:VTIMEZONE
BEGIN:VTIMEZONE
TZID:UTC
BEGIN:STANDARD
DTSTART:20250725T122824
TZOFFSETFROM:+0000
TZOFFSETTO:+0000
END:STANDARD
END:VTIMEZONE
BEGIN:VEVENT
UID:fc490ca45c00b1249bbe3554a4fdf6fb
DTSTAMP:20260421T122824Z
DTSTART;TZID=Europe/Zurich:20260225T104316
DTEND;TZID=Europe/Zurich:20260323T222917
SUMMARY:commodi id quod culpa cupiditate
DESCRIPTION:Voluptatem sint tempora ipsam est iste aliquid. Est adipisci as
 periores et qui eaque ex consectetur. Libero perspiciatis perferendis iste
  est et. Aut eaque dolorum possimus aut.
STATUS:CONFIRMED
URL:https://nightly.pfadi-sa.ch/event/65
IMAGE;VALUE=URI;FMTTYPE=image/png;DISPLAY=BADGE:https://nightly.pfadi-sa.ch
 /build/assets/logo-Nx7_9A4W.png
END:VEVENT
END:VCALENDAR