BEGIN:VCALENDAR
VERSION:2.0
PRODID:spatie/icalendar-generator
NAME:Eventkalender illo quidem voluptatibus sed necessitatibus
X-WR-CALNAME:Eventkalender illo quidem voluptatibus sed necessitatibus
BEGIN:VTIMEZONE
TZID:Europe/Zurich
BEGIN:STANDARD
DTSTART:20251026T030000
TZOFFSETFROM:+0200
TZOFFSETTO:+0100
END:STANDARD
BEGIN:DAYLIGHT
DTSTART:20260329T010000
TZOFFSETFROM:+0100
TZOFFSETTO:+0200
END:DAYLIGHT
END:VTIMEZONE
BEGIN:VTIMEZONE
TZID:UTC
BEGIN:STANDARD
DTSTART:20250725T122824
TZOFFSETFROM:+0000
TZOFFSETTO:+0000
END:STANDARD
END:VTIMEZONE
BEGIN:VEVENT
UID:ea5d2f1c4608232e07d3aa3d998e5135
DTSTAMP:20260421T122824Z
DTSTART;TZID=Europe/Zurich:20260204T164439
DTEND;TZID=Europe/Zurich:20260212T115937
SUMMARY:illo quidem voluptatibus sed necessitatibus
DESCRIPTION:Id in amet voluptatem eaque quia repudiandae error. Magni accus
 amus tempore soluta veritatis qui. Et possimus veritatis necessitatibus id
  nihil aut quae. Vitae vitae molestias inventore aut laudantium quo.
STATUS:CONFIRMED
URL:https://nightly.pfadi-sa.ch/event/64
IMAGE;VALUE=URI;FMTTYPE=image/png;DISPLAY=BADGE:https://nightly.pfadi-sa.ch
 /build/assets/logo-Nx7_9A4W.png
END:VEVENT
END:VCALENDAR