BEGIN:VCALENDAR
VERSION:2.0
PRODID:spatie/icalendar-generator
NAME:Eventkalender inventore cupiditate quis molestiae praesentium
X-WR-CALNAME:Eventkalender inventore cupiditate quis molestiae praesentium
BEGIN:VTIMEZONE
TZID:Europe/Zurich
BEGIN:STANDARD
DTSTART:20251026T030000
TZOFFSETFROM:+0200
TZOFFSETTO:+0100
END:STANDARD
BEGIN:DAYLIGHT
DTSTART:20260329T010000
TZOFFSETFROM:+0100
TZOFFSETTO:+0200
END:DAYLIGHT
END:VTIMEZONE
BEGIN:VTIMEZONE
TZID:UTC
BEGIN:STANDARD
DTSTART:20250725T122906
TZOFFSETFROM:+0000
TZOFFSETTO:+0000
END:STANDARD
END:VTIMEZONE
BEGIN:VEVENT
UID:44f683a84163b3523afe57c2e008bc8c
DTSTAMP:20260421T122906Z
DTSTART;TZID=Europe/Zurich:20260221T221101
DTEND;TZID=Europe/Zurich:20260409T162119
SUMMARY:inventore cupiditate quis molestiae praesentium
DESCRIPTION:Porro sunt dolores laboriosam et. Nostrum atque eos consequuntu
 r corrupti. Alias repudiandae similique dolores rem autem iure nemo. Dolor
 em dolore rem aut qui quibusdam.
STATUS:CONFIRMED
URL:https://nightly.pfadi-sa.ch/event/62
IMAGE;VALUE=URI;FMTTYPE=image/png;DISPLAY=BADGE:https://nightly.pfadi-sa.ch
 /build/assets/logo-Nx7_9A4W.png
END:VEVENT
END:VCALENDAR