BEGIN:VCALENDAR
VERSION:2.0
PRODID:spatie/icalendar-generator
NAME:Eventkalender pariatur dolor ab ullam aut
X-WR-CALNAME:Eventkalender pariatur dolor ab ullam aut
BEGIN:VTIMEZONE
TZID:Europe/Zurich
BEGIN:STANDARD
DTSTART:20251026T030000
TZOFFSETFROM:+0200
TZOFFSETTO:+0100
END:STANDARD
BEGIN:DAYLIGHT
DTSTART:20260329T010000
TZOFFSETFROM:+0100
TZOFFSETTO:+0200
END:DAYLIGHT
END:VTIMEZONE
BEGIN:VTIMEZONE
TZID:UTC
BEGIN:STANDARD
DTSTART:20250725T122921
TZOFFSETFROM:+0000
TZOFFSETTO:+0000
END:STANDARD
END:VTIMEZONE
BEGIN:VEVENT
UID:7f39f8317fbdb1988ef4c628eba02591
DTSTAMP:20260421T122921Z
DTSTART;TZID=Europe/Zurich:20260227T045853
DTEND;TZID=Europe/Zurich:20260313T102541
SUMMARY:pariatur dolor ab ullam aut
DESCRIPTION:Laudantium aperiam suscipit sint consectetur est omnis. Repudia
 ndae quos asperiores sint sit rerum. Aut eum eaque expedita neque quis atq
 ue. Fugiat aut nam sunt fugiat exercitationem.
STATUS:CONFIRMED
URL:https://nightly.pfadi-sa.ch/event/61
IMAGE;VALUE=URI;FMTTYPE=image/png;DISPLAY=BADGE:https://nightly.pfadi-sa.ch
 /build/assets/logo-Nx7_9A4W.png
END:VEVENT
END:VCALENDAR