BEGIN:VCALENDAR
VERSION:2.0
PRODID:spatie/icalendar-generator
NAME:Eventkalender magnam temporibus necessitatibus et enim
X-WR-CALNAME:Eventkalender magnam temporibus necessitatibus et enim
BEGIN:VTIMEZONE
TZID:Europe/Zurich
BEGIN:STANDARD
DTSTART:20251026T030000
TZOFFSETFROM:+0200
TZOFFSETTO:+0100
END:STANDARD
BEGIN:DAYLIGHT
DTSTART:20260329T010000
TZOFFSETFROM:+0100
TZOFFSETTO:+0200
END:DAYLIGHT
END:VTIMEZONE
BEGIN:VTIMEZONE
TZID:UTC
BEGIN:STANDARD
DTSTART:20250725T125020
TZOFFSETFROM:+0000
TZOFFSETTO:+0000
END:STANDARD
END:VTIMEZONE
BEGIN:VEVENT
UID:072b030ba126b2f4b2374f342be9ed44
DTSTAMP:20260421T125020Z
DTSTART;TZID=Europe/Zurich:20260210T202400
DTEND;TZID=Europe/Zurich:20260309T185205
SUMMARY:magnam temporibus necessitatibus et enim
DESCRIPTION:Quia doloremque qui quos possimus quo dignissimos. Facere disti
 nctio est necessitatibus aliquam omnis facilis. Enim quae modi officiis au
 t odit. Corporis vero excepturi laudantium in aperiam quod commodi.
STATUS:CONFIRMED
URL:https://nightly.pfadi-sa.ch/event/60
IMAGE;VALUE=URI;FMTTYPE=image/png;DISPLAY=BADGE:https://nightly.pfadi-sa.ch
 /build/assets/logo-Nx7_9A4W.png
END:VEVENT
END:VCALENDAR