BEGIN:VCALENDAR
VERSION:2.0
PRODID:spatie/icalendar-generator
NAME:Eventkalender atque fugiat facere doloremque odit
X-WR-CALNAME:Eventkalender atque fugiat facere doloremque odit
BEGIN:VTIMEZONE
TZID:Europe/Zurich
BEGIN:STANDARD
DTSTART:20251026T030000
TZOFFSETFROM:+0200
TZOFFSETTO:+0100
END:STANDARD
BEGIN:DAYLIGHT
DTSTART:20260329T010000
TZOFFSETFROM:+0100
TZOFFSETTO:+0200
END:DAYLIGHT
END:VTIMEZONE
BEGIN:VTIMEZONE
TZID:UTC
BEGIN:STANDARD
DTSTART:20250725T124143
TZOFFSETFROM:+0000
TZOFFSETTO:+0000
END:STANDARD
END:VTIMEZONE
BEGIN:VEVENT
UID:1679091c5a880faf6fb5e6087eb1b2dc
DTSTAMP:20260421T124143Z
DTSTART;TZID=Europe/Zurich:20260210T204405
DTEND;TZID=Europe/Zurich:20260227T085432
SUMMARY:atque fugiat facere doloremque odit
DESCRIPTION:Neque eligendi earum possimus et eum est. Deleniti dolor possim
 us esse non fuga blanditiis vero. Voluptas pariatur rem est.
STATUS:CONFIRMED
URL:https://nightly.pfadi-sa.ch/event/6
IMAGE;VALUE=URI;FMTTYPE=image/png;DISPLAY=BADGE:https://nightly.pfadi-sa.ch
 /build/assets/logo-Nx7_9A4W.png
END:VEVENT
END:VCALENDAR