BEGIN:VCALENDAR
VERSION:2.0
PRODID:spatie/icalendar-generator
NAME:Eventkalender omnis rerum qui harum dolor
X-WR-CALNAME:Eventkalender omnis rerum qui harum dolor
BEGIN:VTIMEZONE
TZID:Europe/Zurich
BEGIN:STANDARD
DTSTART:20251026T030000
TZOFFSETFROM:+0200
TZOFFSETTO:+0100
END:STANDARD
BEGIN:DAYLIGHT
DTSTART:20260329T010000
TZOFFSETFROM:+0100
TZOFFSETTO:+0200
END:DAYLIGHT
END:VTIMEZONE
BEGIN:VTIMEZONE
TZID:UTC
BEGIN:STANDARD
DTSTART:20250725T124900
TZOFFSETFROM:+0000
TZOFFSETTO:+0000
END:STANDARD
END:VTIMEZONE
BEGIN:VEVENT
UID:093f65e080a295f8076b1c5722a46aa2
DTSTAMP:20260421T124900Z
DTSTART;TZID=Europe/Zurich:20260317T223513
DTEND;TZID=Europe/Zurich:20260418T045848
SUMMARY:omnis rerum qui harum dolor
DESCRIPTION:Possimus temporibus officiis corrupti quia eum ipsam. Molestiae
  excepturi in molestiae et corporis facere accusantium. Quaerat est est ap
 eriam.
STATUS:CONFIRMED
URL:https://nightly.pfadi-sa.ch/event/59
IMAGE;VALUE=URI;FMTTYPE=image/png;DISPLAY=BADGE:https://nightly.pfadi-sa.ch
 /build/assets/logo-Nx7_9A4W.png
END:VEVENT
END:VCALENDAR