BEGIN:VCALENDAR
VERSION:2.0
PRODID:spatie/icalendar-generator
NAME:Eventkalender et explicabo non molestiae error
X-WR-CALNAME:Eventkalender et explicabo non molestiae error
BEGIN:VTIMEZONE
TZID:Europe/Zurich
BEGIN:STANDARD
DTSTART:20251026T030000
TZOFFSETFROM:+0200
TZOFFSETTO:+0100
END:STANDARD
BEGIN:DAYLIGHT
DTSTART:20260329T010000
TZOFFSETFROM:+0100
TZOFFSETTO:+0200
END:DAYLIGHT
END:VTIMEZONE
BEGIN:VTIMEZONE
TZID:UTC
BEGIN:STANDARD
DTSTART:20250725T125407
TZOFFSETFROM:+0000
TZOFFSETTO:+0000
END:STANDARD
END:VTIMEZONE
BEGIN:VEVENT
UID:66f041e16a60928b05a7e228a89c3799
DTSTAMP:20260421T125407Z
DTSTART;TZID=Europe/Zurich:20260218T103832
DTEND;TZID=Europe/Zurich:20260220T073857
SUMMARY:et explicabo non molestiae error
DESCRIPTION:Sequi et reprehenderit itaque et. Ea quo voluptatem officiis de
 bitis vitae. Et tempore delectus ut voluptatem mollitia.
STATUS:CONFIRMED
URL:https://nightly.pfadi-sa.ch/event/58
IMAGE;VALUE=URI;FMTTYPE=image/png;DISPLAY=BADGE:https://nightly.pfadi-sa.ch
 /build/assets/logo-Nx7_9A4W.png
END:VEVENT
END:VCALENDAR