BEGIN:VCALENDAR
VERSION:2.0
PRODID:spatie/icalendar-generator
NAME:Eventkalender ut modi debitis sit dolores
X-WR-CALNAME:Eventkalender ut modi debitis sit dolores
BEGIN:VTIMEZONE
TZID:Europe/Zurich
BEGIN:STANDARD
DTSTART:20251026T030000
TZOFFSETFROM:+0200
TZOFFSETTO:+0100
END:STANDARD
BEGIN:DAYLIGHT
DTSTART:20260329T010000
TZOFFSETFROM:+0100
TZOFFSETTO:+0200
END:DAYLIGHT
END:VTIMEZONE
BEGIN:VTIMEZONE
TZID:UTC
BEGIN:STANDARD
DTSTART:20250725T125121
TZOFFSETFROM:+0000
TZOFFSETTO:+0000
END:STANDARD
END:VTIMEZONE
BEGIN:VEVENT
UID:72b32a1f754ba1c09b3695e0cb6cde7f
DTSTAMP:20260421T125121Z
DTSTART;TZID=Europe/Zurich:20260209T234932
DTEND;TZID=Europe/Zurich:20260303T032155
SUMMARY:ut modi debitis sit dolores
DESCRIPTION:A maxime exercitationem molestias natus velit ut. Voluptas mole
 stiae esse et sit officia omnis maxime. Quia voluptatem eum omnis. Exceptu
 ri nihil repellendus ipsa.
STATUS:CONFIRMED
URL:https://nightly.pfadi-sa.ch/event/57
IMAGE;VALUE=URI;FMTTYPE=image/png;DISPLAY=BADGE:https://nightly.pfadi-sa.ch
 /build/assets/logo-Nx7_9A4W.png
END:VEVENT
END:VCALENDAR