BEGIN:VCALENDAR
VERSION:2.0
PRODID:spatie/icalendar-generator
NAME:Eventkalender ad cumque nostrum et ipsum
X-WR-CALNAME:Eventkalender ad cumque nostrum et ipsum
BEGIN:VTIMEZONE
TZID:Europe/Zurich
BEGIN:STANDARD
DTSTART:20251026T030000
TZOFFSETFROM:+0200
TZOFFSETTO:+0100
END:STANDARD
BEGIN:DAYLIGHT
DTSTART:20260329T010000
TZOFFSETFROM:+0100
TZOFFSETTO:+0200
END:DAYLIGHT
END:VTIMEZONE
BEGIN:VTIMEZONE
TZID:UTC
BEGIN:STANDARD
DTSTART:20250725T125153
TZOFFSETFROM:+0000
TZOFFSETTO:+0000
END:STANDARD
END:VTIMEZONE
BEGIN:VEVENT
UID:b53b3a3d6ab90ce0268229151c9bde11
DTSTAMP:20260421T125153Z
DTSTART;TZID=Europe/Zurich:20260326T000605
DTEND;TZID=Europe/Zurich:20260402T042403
SUMMARY:ad cumque nostrum et ipsum
DESCRIPTION:Ut itaque itaque alias fugit sint quia sit. Ut aut ea aut ullam
 . Rerum nihil culpa voluptatum. Culpa laboriosam ad facere quia.
STATUS:CONFIRMED
URL:https://nightly.pfadi-sa.ch/event/55
IMAGE;VALUE=URI;FMTTYPE=image/png;DISPLAY=BADGE:https://nightly.pfadi-sa.ch
 /build/assets/logo-Nx7_9A4W.png
END:VEVENT
END:VCALENDAR