BEGIN:VCALENDAR
VERSION:2.0
PRODID:spatie/icalendar-generator
NAME:Eventkalender vel ut consequatur cum dolorum
X-WR-CALNAME:Eventkalender vel ut consequatur cum dolorum
BEGIN:VTIMEZONE
TZID:Europe/Zurich
BEGIN:STANDARD
DTSTART:20251026T030000
TZOFFSETFROM:+0200
TZOFFSETTO:+0100
END:STANDARD
BEGIN:DAYLIGHT
DTSTART:20260329T010000
TZOFFSETFROM:+0100
TZOFFSETTO:+0200
END:DAYLIGHT
END:VTIMEZONE
BEGIN:VTIMEZONE
TZID:UTC
BEGIN:STANDARD
DTSTART:20250725T124032
TZOFFSETFROM:+0000
TZOFFSETTO:+0000
END:STANDARD
END:VTIMEZONE
BEGIN:VEVENT
UID:d82c8d1619ad8176d665453cfb2e55f0
DTSTAMP:20260421T124032Z
DTSTART;TZID=Europe/Zurich:20260317T062159
DTEND;TZID=Europe/Zurich:20260326T010937
SUMMARY:vel ut consequatur cum dolorum
DESCRIPTION:Aut dolorum quis nihil blanditiis non. Nihil eos rerum velit vo
 luptatem et eaque. Fugiat quia distinctio eligendi ex autem nisi iste id. 
 Similique facere iure et error aliquid omnis ducimus. Earum nam quia quaer
 at.
STATUS:CONFIRMED
URL:https://nightly.pfadi-sa.ch/event/53
IMAGE;VALUE=URI;FMTTYPE=image/png;DISPLAY=BADGE:https://nightly.pfadi-sa.ch
 /build/assets/logo-Nx7_9A4W.png
END:VEVENT
END:VCALENDAR