BEGIN:VCALENDAR
VERSION:2.0
PRODID:spatie/icalendar-generator
NAME:Eventkalender qui quo placeat aut omnis
X-WR-CALNAME:Eventkalender qui quo placeat aut omnis
BEGIN:VTIMEZONE
TZID:Europe/Zurich
BEGIN:STANDARD
DTSTART:20251026T030000
TZOFFSETFROM:+0200
TZOFFSETTO:+0100
END:STANDARD
BEGIN:DAYLIGHT
DTSTART:20260329T010000
TZOFFSETFROM:+0100
TZOFFSETTO:+0200
END:DAYLIGHT
END:VTIMEZONE
BEGIN:VTIMEZONE
TZID:UTC
BEGIN:STANDARD
DTSTART:20250725T125254
TZOFFSETFROM:+0000
TZOFFSETTO:+0000
END:STANDARD
END:VTIMEZONE
BEGIN:VEVENT
UID:2838023a778dfaecdc212708f721b788
DTSTAMP:20260421T125254Z
DTSTART;TZID=Europe/Zurich:20260213T133132
DTEND;TZID=Europe/Zurich:20260221T043450
SUMMARY:qui quo placeat aut omnis
DESCRIPTION:Optio sint voluptas dolorem distinctio nam. Et culpa dolor illu
 m deleniti est qui. Ducimus et laboriosam et aperiam possimus.
STATUS:CONFIRMED
URL:https://nightly.pfadi-sa.ch/event/51
IMAGE;VALUE=URI;FMTTYPE=image/png;DISPLAY=BADGE:https://nightly.pfadi-sa.ch
 /build/assets/logo-Nx7_9A4W.png
END:VEVENT
END:VCALENDAR