BEGIN:VCALENDAR
VERSION:2.0
PRODID:spatie/icalendar-generator
NAME:Eventkalender quisquam placeat qui accusantium ea
X-WR-CALNAME:Eventkalender quisquam placeat qui accusantium ea
BEGIN:VTIMEZONE
TZID:Europe/Zurich
BEGIN:STANDARD
DTSTART:20251026T030000
TZOFFSETFROM:+0200
TZOFFSETTO:+0100
END:STANDARD
BEGIN:DAYLIGHT
DTSTART:20260329T010000
TZOFFSETFROM:+0100
TZOFFSETTO:+0200
END:DAYLIGHT
END:VTIMEZONE
BEGIN:VTIMEZONE
TZID:UTC
BEGIN:STANDARD
DTSTART:20250725T125407
TZOFFSETFROM:+0000
TZOFFSETTO:+0000
END:STANDARD
END:VTIMEZONE
BEGIN:VEVENT
UID:c0c7c76d30bd3dcaefc96f40275bdc0a
DTSTAMP:20260421T125407Z
DTSTART;TZID=Europe/Zurich:20260211T062819
DTEND;TZID=Europe/Zurich:20260213T031626
SUMMARY:quisquam placeat qui accusantium ea
DESCRIPTION:Quasi natus ea quibusdam rerum nulla. Doloremque aut et est lab
 orum. Praesentium ad quaerat nihil sunt.
STATUS:CONFIRMED
URL:https://nightly.pfadi-sa.ch/event/50
IMAGE;VALUE=URI;FMTTYPE=image/png;DISPLAY=BADGE:https://nightly.pfadi-sa.ch
 /build/assets/logo-Nx7_9A4W.png
END:VEVENT
END:VCALENDAR