BEGIN:VCALENDAR
VERSION:2.0
PRODID:spatie/icalendar-generator
NAME:Eventkalender iste ut dolores deleniti veritatis
X-WR-CALNAME:Eventkalender iste ut dolores deleniti veritatis
BEGIN:VTIMEZONE
TZID:Europe/Zurich
BEGIN:STANDARD
DTSTART:20251026T030000
TZOFFSETFROM:+0200
TZOFFSETTO:+0100
END:STANDARD
BEGIN:DAYLIGHT
DTSTART:20260329T010000
TZOFFSETFROM:+0100
TZOFFSETTO:+0200
END:DAYLIGHT
END:VTIMEZONE
BEGIN:VTIMEZONE
TZID:UTC
BEGIN:STANDARD
DTSTART:20250725T124807
TZOFFSETFROM:+0000
TZOFFSETTO:+0000
END:STANDARD
END:VTIMEZONE
BEGIN:VEVENT
UID:642e92efb79421734881b53e1e1b18b6
DTSTAMP:20260421T124807Z
DTSTART;TZID=Europe/Zurich:20260211T011705
DTEND;TZID=Europe/Zurich:20260221T123841
SUMMARY:iste ut dolores deleniti veritatis
DESCRIPTION:Ut cum veritatis veniam id iste natus qui. Sit quasi nesciunt l
 abore ab. Ut praesentium omnis sed quia. Sit nostrum eum labore quisquam v
 oluptate eius qui.
STATUS:CONFIRMED
URL:https://nightly.pfadi-sa.ch/event/48
IMAGE;VALUE=URI;FMTTYPE=image/png;DISPLAY=BADGE:https://nightly.pfadi-sa.ch
 /build/assets/logo-Nx7_9A4W.png
END:VEVENT
END:VCALENDAR