BEGIN:VCALENDAR
VERSION:2.0
PRODID:spatie/icalendar-generator
NAME:Eventkalender ut ea ut est porro
X-WR-CALNAME:Eventkalender ut ea ut est porro
BEGIN:VTIMEZONE
TZID:Europe/Zurich
BEGIN:STANDARD
DTSTART:20251026T030000
TZOFFSETFROM:+0200
TZOFFSETTO:+0100
END:STANDARD
BEGIN:DAYLIGHT
DTSTART:20260329T010000
TZOFFSETFROM:+0100
TZOFFSETTO:+0200
END:DAYLIGHT
END:VTIMEZONE
BEGIN:VTIMEZONE
TZID:UTC
BEGIN:STANDARD
DTSTART:20250725T124823
TZOFFSETFROM:+0000
TZOFFSETTO:+0000
END:STANDARD
END:VTIMEZONE
BEGIN:VEVENT
UID:67c6a1e7ce56d3d6fa748ab6d9af3fd7
DTSTAMP:20260421T124823Z
DTSTART;TZID=Europe/Zurich:20260225T025023
DTEND;TZID=Europe/Zurich:20260323T074317
SUMMARY:ut ea ut est porro
DESCRIPTION:Neque id nemo unde incidunt aliquid. Nulla voluptatibus deserun
 t error soluta officia repudiandae. Aut quod corrupti eos ullam. Repellat 
 eligendi repellat quam numquam ea.
STATUS:CONFIRMED
URL:https://nightly.pfadi-sa.ch/event/47
IMAGE;VALUE=URI;FMTTYPE=image/png;DISPLAY=BADGE:https://nightly.pfadi-sa.ch
 /build/assets/logo-Nx7_9A4W.png
END:VEVENT
END:VCALENDAR