BEGIN:VCALENDAR
VERSION:2.0
PRODID:spatie/icalendar-generator
NAME:Eventkalender qui commodi et enim dolores
X-WR-CALNAME:Eventkalender qui commodi et enim dolores
BEGIN:VTIMEZONE
TZID:Europe/Zurich
BEGIN:STANDARD
DTSTART:20251026T030000
TZOFFSETFROM:+0200
TZOFFSETTO:+0100
END:STANDARD
BEGIN:DAYLIGHT
DTSTART:20260329T010000
TZOFFSETFROM:+0100
TZOFFSETTO:+0200
END:DAYLIGHT
END:VTIMEZONE
BEGIN:VTIMEZONE
TZID:UTC
BEGIN:STANDARD
DTSTART:20250725T123552
TZOFFSETFROM:+0000
TZOFFSETTO:+0000
END:STANDARD
END:VTIMEZONE
BEGIN:VEVENT
UID:f7177163c833dff4b38fc8d2872f1ec6
DTSTAMP:20260421T123552Z
DTSTART;TZID=Europe/Zurich:20260212T152230
DTEND;TZID=Europe/Zurich:20260419T152258
SUMMARY:qui commodi et enim dolores
DESCRIPTION:Sunt nemo exercitationem eum ut omnis similique. Tenetur ut eve
 niet repudiandae reprehenderit quia. Nisi quam reprehenderit dignissimos e
 arum qui. Porro distinctio praesentium minus tempora quos.
STATUS:CONFIRMED
URL:https://nightly.pfadi-sa.ch/event/44
IMAGE;VALUE=URI;FMTTYPE=image/png;DISPLAY=BADGE:https://nightly.pfadi-sa.ch
 /build/assets/logo-Nx7_9A4W.png
END:VEVENT
END:VCALENDAR