BEGIN:VCALENDAR
VERSION:2.0
PRODID:spatie/icalendar-generator
NAME:Eventkalender natus maxime aut ullam non
X-WR-CALNAME:Eventkalender natus maxime aut ullam non
BEGIN:VTIMEZONE
TZID:Europe/Zurich
BEGIN:STANDARD
DTSTART:20251026T030000
TZOFFSETFROM:+0200
TZOFFSETTO:+0100
END:STANDARD
BEGIN:DAYLIGHT
DTSTART:20260329T010000
TZOFFSETFROM:+0100
TZOFFSETTO:+0200
END:DAYLIGHT
END:VTIMEZONE
BEGIN:VTIMEZONE
TZID:UTC
BEGIN:STANDARD
DTSTART:20250725T124735
TZOFFSETFROM:+0000
TZOFFSETTO:+0000
END:STANDARD
END:VTIMEZONE
BEGIN:VEVENT
UID:3416a75f4cea9109507cacd8e2f2aefc
DTSTAMP:20260421T124735Z
DTSTART;TZID=Europe/Zurich:20260210T053121
DTEND;TZID=Europe/Zurich:20260212T193845
SUMMARY:natus maxime aut ullam non
DESCRIPTION:Non dignissimos sed qui sit iste rerum et ut. Est quia voluptat
 um et quia placeat. Unde ratione rerum delectus culpa minus perferendis ad
 ipisci.
STATUS:CONFIRMED
URL:https://nightly.pfadi-sa.ch/event/41
IMAGE;VALUE=URI;FMTTYPE=image/png;DISPLAY=BADGE:https://nightly.pfadi-sa.ch
 /build/assets/logo-Nx7_9A4W.png
END:VEVENT
END:VCALENDAR