BEGIN:VCALENDAR
VERSION:2.0
PRODID:spatie/icalendar-generator
NAME:Eventkalender dolorum voluptate ut eius aut
X-WR-CALNAME:Eventkalender dolorum voluptate ut eius aut
BEGIN:VTIMEZONE
TZID:Europe/Zurich
BEGIN:STANDARD
DTSTART:20251026T030000
TZOFFSETFROM:+0200
TZOFFSETTO:+0100
END:STANDARD
BEGIN:DAYLIGHT
DTSTART:20260329T010000
TZOFFSETFROM:+0100
TZOFFSETTO:+0200
END:DAYLIGHT
END:VTIMEZONE
BEGIN:VTIMEZONE
TZID:UTC
BEGIN:STANDARD
DTSTART:20250725T123428
TZOFFSETFROM:+0000
TZOFFSETTO:+0000
END:STANDARD
END:VTIMEZONE
BEGIN:VEVENT
UID:a87ff679a2f3e71d9181a67b7542122c
DTSTAMP:20260421T123428Z
DTSTART;TZID=Europe/Zurich:20260316T185247
DTEND;TZID=Europe/Zurich:20260420T231758
SUMMARY:dolorum voluptate ut eius aut
DESCRIPTION:Asperiores placeat qui officia consequatur veritatis nulla quib
 usdam. Quibusdam magnam a inventore illum dolor cum sint dignissimos. Cupi
 ditate dolores ratione id accusamus debitis et. Voluptatem officiis dolore
 m esse unde et ea.
STATUS:CONFIRMED
URL:https://nightly.pfadi-sa.ch/event/4
IMAGE;VALUE=URI;FMTTYPE=image/png;DISPLAY=BADGE:https://nightly.pfadi-sa.ch
 /build/assets/logo-Nx7_9A4W.png
END:VEVENT
END:VCALENDAR