BEGIN:VCALENDAR
VERSION:2.0
PRODID:spatie/icalendar-generator
NAME:Eventkalender quisquam repellendus voluptates repudiandae molestias
X-WR-CALNAME:Eventkalender quisquam repellendus voluptates repudiandae mole
 stias
BEGIN:VTIMEZONE
TZID:Europe/Zurich
BEGIN:STANDARD
DTSTART:20251026T030000
TZOFFSETFROM:+0200
TZOFFSETTO:+0100
END:STANDARD
BEGIN:DAYLIGHT
DTSTART:20260329T010000
TZOFFSETFROM:+0100
TZOFFSETTO:+0200
END:DAYLIGHT
END:VTIMEZONE
BEGIN:VTIMEZONE
TZID:UTC
BEGIN:STANDARD
DTSTART:20250725T123248
TZOFFSETFROM:+0000
TZOFFSETTO:+0000
END:STANDARD
END:VTIMEZONE
BEGIN:VEVENT
UID:d67d8ab4f4c10bf22aa353e27879133c
DTSTAMP:20260421T123248Z
DTSTART;TZID=Europe/Zurich:20260308T023609
DTEND;TZID=Europe/Zurich:20260313T115356
SUMMARY:quisquam repellendus voluptates repudiandae molestias
DESCRIPTION:Ipsum ducimus aut nemo error recusandae. Doloribus est error co
 nsequatur eos. Eaque non et autem culpa eaque enim. Dolores tenetur conseq
 uuntur excepturi. Voluptatem rem perferendis quia cumque sit omnis.
STATUS:CONFIRMED
URL:https://nightly.pfadi-sa.ch/event/39
IMAGE;VALUE=URI;FMTTYPE=image/png;DISPLAY=BADGE:https://nightly.pfadi-sa.ch
 /build/assets/logo-Nx7_9A4W.png
END:VEVENT
END:VCALENDAR