BEGIN:VCALENDAR
VERSION:2.0
PRODID:spatie/icalendar-generator
NAME:Eventkalender vel sit sint laudantium est
X-WR-CALNAME:Eventkalender vel sit sint laudantium est
BEGIN:VTIMEZONE
TZID:Europe/Zurich
BEGIN:STANDARD
DTSTART:20251026T030000
TZOFFSETFROM:+0200
TZOFFSETTO:+0100
END:STANDARD
BEGIN:DAYLIGHT
DTSTART:20260329T010000
TZOFFSETFROM:+0100
TZOFFSETTO:+0200
END:DAYLIGHT
END:VTIMEZONE
BEGIN:VTIMEZONE
TZID:UTC
BEGIN:STANDARD
DTSTART:20250725T124950
TZOFFSETFROM:+0000
TZOFFSETTO:+0000
END:STANDARD
END:VTIMEZONE
BEGIN:VEVENT
UID:a5771bce93e200c36f7cd9dfd0e5deaa
DTSTAMP:20260421T124950Z
DTSTART;TZID=Europe/Zurich:20260220T061022
DTEND;TZID=Europe/Zurich:20260227T211919
SUMMARY:vel sit sint laudantium est
DESCRIPTION:Et tempora doloremque optio cupiditate. Accusantium earum error
  quod magnam.
STATUS:CONFIRMED
URL:https://nightly.pfadi-sa.ch/event/38
IMAGE;VALUE=URI;FMTTYPE=image/png;DISPLAY=BADGE:https://nightly.pfadi-sa.ch
 /build/assets/logo-Nx7_9A4W.png
END:VEVENT
END:VCALENDAR