BEGIN:VCALENDAR
VERSION:2.0
PRODID:spatie/icalendar-generator
NAME:Eventkalender non rerum omnis molestiae et
X-WR-CALNAME:Eventkalender non rerum omnis molestiae et
BEGIN:VTIMEZONE
TZID:Europe/Zurich
BEGIN:STANDARD
DTSTART:20251026T030000
TZOFFSETFROM:+0200
TZOFFSETTO:+0100
END:STANDARD
BEGIN:DAYLIGHT
DTSTART:20260329T010000
TZOFFSETFROM:+0100
TZOFFSETTO:+0200
END:DAYLIGHT
END:VTIMEZONE
BEGIN:VTIMEZONE
TZID:UTC
BEGIN:STANDARD
DTSTART:20250725T124900
TZOFFSETFROM:+0000
TZOFFSETTO:+0000
END:STANDARD
END:VTIMEZONE
BEGIN:VEVENT
UID:19ca14e7ea6328a42e0eb13d585e4c22
DTSTAMP:20260421T124900Z
DTSTART;TZID=Europe/Zurich:20260211T124032
DTEND;TZID=Europe/Zurich:20260301T031255
SUMMARY:non rerum omnis molestiae et
DESCRIPTION:Asperiores delectus incidunt tempora sapiente nesciunt consequu
 ntur. Expedita non est explicabo placeat aut vel. Enim aut aut autem quam 
 praesentium.
STATUS:CONFIRMED
URL:https://nightly.pfadi-sa.ch/event/36
IMAGE;VALUE=URI;FMTTYPE=image/png;DISPLAY=BADGE:https://nightly.pfadi-sa.ch
 /build/assets/logo-Nx7_9A4W.png
END:VEVENT
END:VCALENDAR