BEGIN:VCALENDAR
VERSION:2.0
PRODID:spatie/icalendar-generator
NAME:Eventkalender eaque quo dolor rerum aut
X-WR-CALNAME:Eventkalender eaque quo dolor rerum aut
BEGIN:VTIMEZONE
TZID:Europe/Zurich
BEGIN:STANDARD
DTSTART:20251026T030000
TZOFFSETFROM:+0200
TZOFFSETTO:+0100
END:STANDARD
BEGIN:DAYLIGHT
DTSTART:20260329T010000
TZOFFSETFROM:+0100
TZOFFSETTO:+0200
END:DAYLIGHT
END:VTIMEZONE
BEGIN:VTIMEZONE
TZID:UTC
BEGIN:STANDARD
DTSTART:20250725T124021
TZOFFSETFROM:+0000
TZOFFSETTO:+0000
END:STANDARD
END:VTIMEZONE
BEGIN:VEVENT
UID:1c383cd30b7c298ab50293adfecb7b18
DTSTAMP:20260421T124021Z
DTSTART;TZID=Europe/Zurich:20260219T200403
DTEND;TZID=Europe/Zurich:20260310T024329
SUMMARY:eaque quo dolor rerum aut
DESCRIPTION:Ut aut aperiam libero quo facere voluptatem exercitationem. Qui
 s possimus facilis enim. Quo sint quam mollitia et officia esse ducimus do
 lorum.
STATUS:CONFIRMED
URL:https://nightly.pfadi-sa.ch/event/35
IMAGE;VALUE=URI;FMTTYPE=image/png;DISPLAY=BADGE:https://nightly.pfadi-sa.ch
 /build/assets/logo-Nx7_9A4W.png
END:VEVENT
END:VCALENDAR