BEGIN:VCALENDAR
VERSION:2.0
PRODID:spatie/icalendar-generator
NAME:Eventkalender nihil impedit sapiente error velit
X-WR-CALNAME:Eventkalender nihil impedit sapiente error velit
BEGIN:VTIMEZONE
TZID:Europe/Zurich
BEGIN:STANDARD
DTSTART:20251026T030000
TZOFFSETFROM:+0200
TZOFFSETTO:+0100
END:STANDARD
BEGIN:DAYLIGHT
DTSTART:20260329T010000
TZOFFSETFROM:+0100
TZOFFSETTO:+0200
END:DAYLIGHT
END:VTIMEZONE
BEGIN:VTIMEZONE
TZID:UTC
BEGIN:STANDARD
DTSTART:20250725T124944
TZOFFSETFROM:+0000
TZOFFSETTO:+0000
END:STANDARD
END:VTIMEZONE
BEGIN:VEVENT
UID:e369853df766fa44e1ed0ff613f563bd
DTSTAMP:20260421T124944Z
DTSTART;TZID=Europe/Zurich:20260328T191006
DTEND;TZID=Europe/Zurich:20260417T052646
SUMMARY:nihil impedit sapiente error velit
DESCRIPTION:Suscipit ut tempora dolorum corrupti iure. Iure eveniet sed rem
  enim officiis voluptatem ea. Exercitationem quas deserunt excepturi quisq
 uam quod quis aliquid.
STATUS:CONFIRMED
URL:https://nightly.pfadi-sa.ch/event/34
IMAGE;VALUE=URI;FMTTYPE=image/png;DISPLAY=BADGE:https://nightly.pfadi-sa.ch
 /build/assets/logo-Nx7_9A4W.png
END:VEVENT
END:VCALENDAR