BEGIN:VCALENDAR
VERSION:2.0
PRODID:spatie/icalendar-generator
NAME:Eventkalender cupiditate optio molestias reprehenderit et
X-WR-CALNAME:Eventkalender cupiditate optio molestias reprehenderit et
BEGIN:VTIMEZONE
TZID:Europe/Zurich
BEGIN:STANDARD
DTSTART:20251026T030000
TZOFFSETFROM:+0200
TZOFFSETTO:+0100
END:STANDARD
BEGIN:DAYLIGHT
DTSTART:20260329T010000
TZOFFSETFROM:+0100
TZOFFSETTO:+0200
END:DAYLIGHT
END:VTIMEZONE
BEGIN:VTIMEZONE
TZID:UTC
BEGIN:STANDARD
DTSTART:20250725T123439
TZOFFSETFROM:+0000
TZOFFSETTO:+0000
END:STANDARD
END:VTIMEZONE
BEGIN:VEVENT
UID:6364d3f0f495b6ab9dcf8d3b5c6e0b01
DTSTAMP:20260421T123439Z
DTSTART;TZID=Europe/Zurich:20260215T155616
DTEND;TZID=Europe/Zurich:20260329T215309
SUMMARY:cupiditate optio molestias reprehenderit et
DESCRIPTION:Rem magni vel aut. Deserunt vero voluptatibus repellat deserunt
  sunt iure. Et iste esse non ea quis voluptatem numquam. Iusto dolores quo
 d voluptatem voluptatum.
STATUS:CONFIRMED
URL:https://nightly.pfadi-sa.ch/event/32
IMAGE;VALUE=URI;FMTTYPE=image/png;DISPLAY=BADGE:https://nightly.pfadi-sa.ch
 /build/assets/logo-Nx7_9A4W.png
END:VEVENT
END:VCALENDAR