BEGIN:VCALENDAR
VERSION:2.0
PRODID:spatie/icalendar-generator
NAME:Eventkalender ullam aut provident saepe est
X-WR-CALNAME:Eventkalender ullam aut provident saepe est
BEGIN:VTIMEZONE
TZID:Europe/Zurich
BEGIN:STANDARD
DTSTART:20251026T030000
TZOFFSETFROM:+0200
TZOFFSETTO:+0100
END:STANDARD
BEGIN:DAYLIGHT
DTSTART:20260329T010000
TZOFFSETFROM:+0100
TZOFFSETTO:+0200
END:DAYLIGHT
END:VTIMEZONE
BEGIN:VTIMEZONE
TZID:UTC
BEGIN:STANDARD
DTSTART:20250725T125229
TZOFFSETFROM:+0000
TZOFFSETTO:+0000
END:STANDARD
END:VTIMEZONE
BEGIN:VEVENT
UID:c16a5320fa475530d9583c34fd356ef5
DTSTAMP:20260421T125229Z
DTSTART;TZID=Europe/Zurich:20260214T142301
DTEND;TZID=Europe/Zurich:20260307T174031
SUMMARY:ullam aut provident saepe est
DESCRIPTION:Fuga excepturi consequatur illum distinctio eius magni. Et nequ
 e sunt qui ducimus esse commodi exercitationem. Officiis harum atque odit 
 placeat quia.
STATUS:CONFIRMED
URL:https://nightly.pfadi-sa.ch/event/31
IMAGE;VALUE=URI;FMTTYPE=image/png;DISPLAY=BADGE:https://nightly.pfadi-sa.ch
 /build/assets/logo-Nx7_9A4W.png
END:VEVENT
END:VCALENDAR