BEGIN:VCALENDAR
VERSION:2.0
PRODID:spatie/icalendar-generator
NAME:Eventkalender ea qui saepe exercitationem quasi
X-WR-CALNAME:Eventkalender ea qui saepe exercitationem quasi
BEGIN:VTIMEZONE
TZID:Europe/Zurich
BEGIN:STANDARD
DTSTART:20251026T030000
TZOFFSETFROM:+0200
TZOFFSETTO:+0100
END:STANDARD
BEGIN:DAYLIGHT
DTSTART:20260329T010000
TZOFFSETFROM:+0100
TZOFFSETTO:+0200
END:DAYLIGHT
END:VTIMEZONE
BEGIN:VTIMEZONE
TZID:UTC
BEGIN:STANDARD
DTSTART:20250725T124814
TZOFFSETFROM:+0000
TZOFFSETTO:+0000
END:STANDARD
END:VTIMEZONE
BEGIN:VEVENT
UID:34173cb38f07f89ddbebc2ac9128303f
DTSTAMP:20260421T124814Z
DTSTART;TZID=Europe/Zurich:20260215T173653
DTEND;TZID=Europe/Zurich:20260324T010347
SUMMARY:ea qui saepe exercitationem quasi
DESCRIPTION:Eius quas et ipsum suscipit dolorem quisquam. Autem omnis tenet
 ur sit cum. Nisi omnis quasi perspiciatis distinctio quisquam provident ne
 que. Ut porro aliquam doloribus voluptates est.
STATUS:CONFIRMED
URL:https://nightly.pfadi-sa.ch/event/30
IMAGE;VALUE=URI;FMTTYPE=image/png;DISPLAY=BADGE:https://nightly.pfadi-sa.ch
 /build/assets/logo-Nx7_9A4W.png
END:VEVENT
END:VCALENDAR