BEGIN:VCALENDAR
VERSION:2.0
PRODID:spatie/icalendar-generator
NAME:Eventkalender et aut consequatur ratione illo
X-WR-CALNAME:Eventkalender et aut consequatur ratione illo
BEGIN:VTIMEZONE
TZID:Europe/Zurich
BEGIN:STANDARD
DTSTART:20251026T030000
TZOFFSETFROM:+0200
TZOFFSETTO:+0100
END:STANDARD
BEGIN:DAYLIGHT
DTSTART:20260329T010000
TZOFFSETFROM:+0100
TZOFFSETTO:+0200
END:DAYLIGHT
END:VTIMEZONE
BEGIN:VTIMEZONE
TZID:UTC
BEGIN:STANDARD
DTSTART:20250725T123428
TZOFFSETFROM:+0000
TZOFFSETTO:+0000
END:STANDARD
END:VTIMEZONE
BEGIN:VEVENT
UID:eccbc87e4b5ce2fe28308fd9f2a7baf3
DTSTAMP:20260421T123428Z
DTSTART;TZID=Europe/Zurich:20260219T160544
DTEND;TZID=Europe/Zurich:20260228T011609
SUMMARY:et aut consequatur ratione illo
DESCRIPTION:Eaque eligendi reprehenderit occaecati accusantium. Dolore sapi
 ente id beatae. Rerum consequatur sapiente voluptas sunt. Id est delectus 
 corrupti voluptatem. A doloremque corporis voluptatem sed enim fuga.
STATUS:CONFIRMED
URL:https://nightly.pfadi-sa.ch/event/3
IMAGE;VALUE=URI;FMTTYPE=image/png;DISPLAY=BADGE:https://nightly.pfadi-sa.ch
 /build/assets/logo-Nx7_9A4W.png
END:VEVENT
END:VCALENDAR