BEGIN:VCALENDAR
VERSION:2.0
PRODID:spatie/icalendar-generator
NAME:Eventkalender dolores numquam nihil consequatur quis
X-WR-CALNAME:Eventkalender dolores numquam nihil consequatur quis
BEGIN:VTIMEZONE
TZID:Europe/Zurich
BEGIN:STANDARD
DTSTART:20251026T030000
TZOFFSETFROM:+0200
TZOFFSETTO:+0100
END:STANDARD
BEGIN:DAYLIGHT
DTSTART:20260329T010000
TZOFFSETFROM:+0100
TZOFFSETTO:+0200
END:DAYLIGHT
END:VTIMEZONE
BEGIN:VTIMEZONE
TZID:UTC
BEGIN:STANDARD
DTSTART:20250725T124143
TZOFFSETFROM:+0000
TZOFFSETTO:+0000
END:STANDARD
END:VTIMEZONE
BEGIN:VEVENT
UID:33e75ff09dd601bbe69f351039152189
DTSTAMP:20260421T124143Z
DTSTART;TZID=Europe/Zurich:20260210T060124
DTEND;TZID=Europe/Zurich:20260226T061407
SUMMARY:dolores numquam nihil consequatur quis
DESCRIPTION:Eius molestias quis sed laboriosam. Sunt expedita voluptas natu
 s ab.
STATUS:CONFIRMED
URL:https://nightly.pfadi-sa.ch/event/28
IMAGE;VALUE=URI;FMTTYPE=image/png;DISPLAY=BADGE:https://nightly.pfadi-sa.ch
 /build/assets/logo-Nx7_9A4W.png
END:VEVENT
END:VCALENDAR