BEGIN:VCALENDAR
VERSION:2.0
PRODID:spatie/icalendar-generator
NAME:Eventkalender nam recusandae quasi nihil quisquam
X-WR-CALNAME:Eventkalender nam recusandae quasi nihil quisquam
BEGIN:VTIMEZONE
TZID:Europe/Zurich
BEGIN:STANDARD
DTSTART:20251026T030000
TZOFFSETFROM:+0200
TZOFFSETTO:+0100
END:STANDARD
BEGIN:DAYLIGHT
DTSTART:20260329T010000
TZOFFSETFROM:+0100
TZOFFSETTO:+0200
END:DAYLIGHT
END:VTIMEZONE
BEGIN:VTIMEZONE
TZID:UTC
BEGIN:STANDARD
DTSTART:20250725T125229
TZOFFSETFROM:+0000
TZOFFSETTO:+0000
END:STANDARD
END:VTIMEZONE
BEGIN:VEVENT
UID:02e74f10e0327ad868d138f2b4fdd6f0
DTSTAMP:20260421T125229Z
DTSTART;TZID=Europe/Zurich:20260210T145715
DTEND;TZID=Europe/Zurich:20260411T141435
SUMMARY:nam recusandae quasi nihil quisquam
DESCRIPTION:Et debitis dolorem magnam. Nam quibusdam enim eaque id modi. Qu
 is ratione et numquam similique. Unde perspiciatis deleniti id doloremque 
 qui nihil perspiciatis cum.
STATUS:CONFIRMED
URL:https://nightly.pfadi-sa.ch/event/27
IMAGE;VALUE=URI;FMTTYPE=image/png;DISPLAY=BADGE:https://nightly.pfadi-sa.ch
 /build/assets/logo-Nx7_9A4W.png
END:VEVENT
END:VCALENDAR