BEGIN:VCALENDAR
VERSION:2.0
PRODID:spatie/icalendar-generator
NAME:Eventkalender aliquam facilis consectetur quidem rem
X-WR-CALNAME:Eventkalender aliquam facilis consectetur quidem rem
BEGIN:VTIMEZONE
TZID:Europe/Zurich
BEGIN:STANDARD
DTSTART:20251026T030000
TZOFFSETFROM:+0200
TZOFFSETTO:+0100
END:STANDARD
BEGIN:DAYLIGHT
DTSTART:20260329T010000
TZOFFSETFROM:+0100
TZOFFSETTO:+0200
END:DAYLIGHT
END:VTIMEZONE
BEGIN:VTIMEZONE
TZID:UTC
BEGIN:STANDARD
DTSTART:20250725T125326
TZOFFSETFROM:+0000
TZOFFSETTO:+0000
END:STANDARD
END:VTIMEZONE
BEGIN:VEVENT
UID:4e732ced3463d06de0ca9a15b6153677
DTSTAMP:20260421T125326Z
DTSTART;TZID=Europe/Zurich:20260208T023735
DTEND;TZID=Europe/Zurich:20260328T175145
SUMMARY:aliquam facilis consectetur quidem rem
DESCRIPTION:Dolorem optio ipsum sequi sed. Omnis qui ullam et consequatur a
 ut sunt unde. Amet quas qui qui consequatur. Dolor sed similique exercitat
 ionem ad dolorum quia.
STATUS:CONFIRMED
URL:https://nightly.pfadi-sa.ch/event/26
IMAGE;VALUE=URI;FMTTYPE=image/png;DISPLAY=BADGE:https://nightly.pfadi-sa.ch
 /build/assets/logo-Nx7_9A4W.png
END:VEVENT
END:VCALENDAR