BEGIN:VCALENDAR
VERSION:2.0
PRODID:spatie/icalendar-generator
NAME:Eventkalender incidunt eos vel qui voluptas
X-WR-CALNAME:Eventkalender incidunt eos vel qui voluptas
BEGIN:VTIMEZONE
TZID:Europe/Zurich
BEGIN:STANDARD
DTSTART:20251026T030000
TZOFFSETFROM:+0200
TZOFFSETTO:+0100
END:STANDARD
BEGIN:DAYLIGHT
DTSTART:20260329T010000
TZOFFSETFROM:+0100
TZOFFSETTO:+0200
END:DAYLIGHT
END:VTIMEZONE
BEGIN:VTIMEZONE
TZID:UTC
BEGIN:STANDARD
DTSTART:20250725T125126
TZOFFSETFROM:+0000
TZOFFSETTO:+0000
END:STANDARD
END:VTIMEZONE
BEGIN:VEVENT
UID:8e296a067a37563370ded05f5a3bf3ec
DTSTAMP:20260421T125126Z
DTSTART;TZID=Europe/Zurich:20260217T120851
DTEND;TZID=Europe/Zurich:20260417T233852
SUMMARY:incidunt eos vel qui voluptas
DESCRIPTION:Aliquid quia placeat dolor doloribus nostrum. Minus aut omnis e
 sse vero et. Impedit qui numquam amet omnis molestias. Reprehenderit dolor
 um beatae molestiae aut aut consequuntur.
STATUS:CONFIRMED
URL:https://nightly.pfadi-sa.ch/event/25
IMAGE;VALUE=URI;FMTTYPE=image/png;DISPLAY=BADGE:https://nightly.pfadi-sa.ch
 /build/assets/logo-Nx7_9A4W.png
END:VEVENT
END:VCALENDAR