BEGIN:VCALENDAR
VERSION:2.0
PRODID:spatie/icalendar-generator
NAME:Eventkalender aliquam dolor quidem quod iusto
X-WR-CALNAME:Eventkalender aliquam dolor quidem quod iusto
BEGIN:VTIMEZONE
TZID:Europe/Zurich
BEGIN:STANDARD
DTSTART:20251026T030000
TZOFFSETFROM:+0200
TZOFFSETTO:+0100
END:STANDARD
BEGIN:DAYLIGHT
DTSTART:20260329T010000
TZOFFSETFROM:+0100
TZOFFSETTO:+0200
END:DAYLIGHT
END:VTIMEZONE
BEGIN:VTIMEZONE
TZID:UTC
BEGIN:STANDARD
DTSTART:20250725T124935
TZOFFSETFROM:+0000
TZOFFSETTO:+0000
END:STANDARD
END:VTIMEZONE
BEGIN:VEVENT
UID:37693cfc748049e45d87b8c7d8b9aacd
DTSTAMP:20260421T124935Z
DTSTART;TZID=Europe/Zurich:20260308T065101
DTEND;TZID=Europe/Zurich:20260316T085119
SUMMARY:aliquam dolor quidem quod iusto
DESCRIPTION:Dolore aut ipsa blanditiis pariatur. Architecto quisquam sequi 
 rerum et porro et ipsum. Libero asperiores perspiciatis iste. Vitae except
 uri dolor excepturi ea.
STATUS:CONFIRMED
URL:https://nightly.pfadi-sa.ch/event/23
IMAGE;VALUE=URI;FMTTYPE=image/png;DISPLAY=BADGE:https://nightly.pfadi-sa.ch
 /build/assets/logo-Nx7_9A4W.png
END:VEVENT
END:VCALENDAR