BEGIN:VCALENDAR
VERSION:2.0
PRODID:spatie/icalendar-generator
NAME:Eventkalender consectetur provident recusandae ad recusandae
X-WR-CALNAME:Eventkalender consectetur provident recusandae ad recusandae
BEGIN:VTIMEZONE
TZID:Europe/Zurich
BEGIN:STANDARD
DTSTART:20251026T030000
TZOFFSETFROM:+0200
TZOFFSETTO:+0100
END:STANDARD
BEGIN:DAYLIGHT
DTSTART:20260329T010000
TZOFFSETFROM:+0100
TZOFFSETTO:+0200
END:DAYLIGHT
END:VTIMEZONE
BEGIN:VTIMEZONE
TZID:UTC
BEGIN:STANDARD
DTSTART:20250725T124331
TZOFFSETFROM:+0000
TZOFFSETTO:+0000
END:STANDARD
END:VTIMEZONE
BEGIN:VEVENT
UID:b6d767d2f8ed5d21a44b0e5886680cb9
DTSTAMP:20260421T124331Z
DTSTART;TZID=Europe/Zurich:20260218T113648
DTEND;TZID=Europe/Zurich:20260227T055152
SUMMARY:consectetur provident recusandae ad recusandae
DESCRIPTION:Quis qui natus natus dolor animi. Sed aut odio doloribus offici
 a sit voluptate. Dolor quo voluptas fuga facilis. Tempora totam dolores in
 ventore et quam.
STATUS:CONFIRMED
URL:https://nightly.pfadi-sa.ch/event/22
IMAGE;VALUE=URI;FMTTYPE=image/png;DISPLAY=BADGE:https://nightly.pfadi-sa.ch
 /build/assets/logo-Nx7_9A4W.png
END:VEVENT
END:VCALENDAR