BEGIN:VCALENDAR
VERSION:2.0
PRODID:spatie/icalendar-generator
NAME:Eventkalender quam saepe porro sapiente odit
X-WR-CALNAME:Eventkalender quam saepe porro sapiente odit
BEGIN:VTIMEZONE
TZID:Europe/Zurich
BEGIN:STANDARD
DTSTART:20251026T030000
TZOFFSETFROM:+0200
TZOFFSETTO:+0100
END:STANDARD
BEGIN:DAYLIGHT
DTSTART:20260329T010000
TZOFFSETFROM:+0100
TZOFFSETTO:+0200
END:DAYLIGHT
END:VTIMEZONE
BEGIN:VTIMEZONE
TZID:UTC
BEGIN:STANDARD
DTSTART:20250725T124614
TZOFFSETFROM:+0000
TZOFFSETTO:+0000
END:STANDARD
END:VTIMEZONE
BEGIN:VEVENT
UID:3c59dc048e8850243be8079a5c74d079
DTSTAMP:20260421T124614Z
DTSTART;TZID=Europe/Zurich:20260311T211217
DTEND;TZID=Europe/Zurich:20260328T074809
SUMMARY:quam saepe porro sapiente odit
DESCRIPTION:Recusandae cumque dolore accusamus ratione. Sit maiores et nost
 rum repellendus quasi. Architecto esse doloribus consequuntur rem eum offi
 ciis. Culpa aliquid rerum voluptatem perferendis sunt vero ad quasi.
STATUS:CONFIRMED
URL:https://nightly.pfadi-sa.ch/event/21
IMAGE;VALUE=URI;FMTTYPE=image/png;DISPLAY=BADGE:https://nightly.pfadi-sa.ch
 /build/assets/logo-Nx7_9A4W.png
END:VEVENT
END:VCALENDAR