BEGIN:VCALENDAR
VERSION:2.0
PRODID:spatie/icalendar-generator
NAME:Eventkalender Monatsübersicht April 2026
X-WR-CALNAME:Eventkalender Monatsübersicht April 2026
BEGIN:VTIMEZONE
TZID:Europe/Zurich
BEGIN:STANDARD
DTSTART:20251026T030000
TZOFFSETFROM:+0200
TZOFFSETTO:+0100
END:STANDARD
BEGIN:DAYLIGHT
DTSTART:20260329T010000
TZOFFSETFROM:+0100
TZOFFSETTO:+0200
END:DAYLIGHT
END:VTIMEZONE
BEGIN:VTIMEZONE
TZID:UTC
BEGIN:STANDARD
DTSTART:20250725T105816
TZOFFSETFROM:+0000
TZOFFSETTO:+0000
END:STANDARD
END:VTIMEZONE
BEGIN:VEVENT
UID:1ff1de774005f8da13f42943881c655f
DTSTAMP:20260421T105816Z
DTSTART;TZID=Europe/Zurich:20260410T185830
DTEND;TZID=Europe/Zurich:20260412T172631
SUMMARY:officia omnis qui similique in
DESCRIPTION:Nihil voluptas repudiandae veniam quidem quod sed. Dolore quia 
 adipisci sequi alias et. Pariatur delectus repudiandae rerum nisi. Eaque q
 ui temporibus quisquam qui sed.
STATUS:CONFIRMED
URL:https://nightly.pfadi-sa.ch/event/24
IMAGE;VALUE=URI;FMTTYPE=image/png;DISPLAY=BADGE:https://nightly.pfadi-sa.ch
 /build/assets/logo-Nx7_9A4W.png
END:VEVENT
BEGIN:VEVENT
UID:a684eceee76fc522773286a895bc8436
DTSTAMP:20260421T105816Z
DTSTART;TZID=Europe/Zurich:20260412T120029
DTEND;TZID=Europe/Zurich:20260415T052617
SUMMARY:distinctio sequi vel molestiae est
DESCRIPTION:Ipsam quia sed adipisci aut. Aut molestiae similique quia excep
 turi eum deserunt doloribus. Aut in ducimus architecto fugiat. Tempora eaq
 ue voluptates enim totam eligendi quis.
STATUS:CONFIRMED
URL:https://nightly.pfadi-sa.ch/event/54
IMAGE;VALUE=URI;FMTTYPE=image/png;DISPLAY=BADGE:https://nightly.pfadi-sa.ch
 /build/assets/logo-Nx7_9A4W.png
END:VEVENT
BEGIN:VEVENT
UID:182be0c5cdcd5072bb1864cdee4d3d6e
DTSTAMP:20260421T105816Z
DTSTART;TZID=Europe/Zurich:20260415T232205
DTEND;TZID=Europe/Zurich:20260417T131523
SUMMARY:voluptatum possimus autem at iure
DESCRIPTION:Facilis repudiandae neque hic odit inventore. Placeat qui volup
 tatem pariatur provident. Tempore beatae voluptate unde corrupti aliquid. 
 Deleniti quia occaecati eligendi et quis.
STATUS:CONFIRMED
URL:https://nightly.pfadi-sa.ch/event/33
IMAGE;VALUE=URI;FMTTYPE=image/png;DISPLAY=BADGE:https://nightly.pfadi-sa.ch
 /build/assets/logo-Nx7_9A4W.png
END:VEVENT
END:VCALENDAR