BEGIN:VCALENDAR
VERSION:2.0
PRODID:spatie/icalendar-generator
NAME:Eventkalender sit repellendus distinctio est quia
X-WR-CALNAME:Eventkalender sit repellendus distinctio est quia
BEGIN:VTIMEZONE
TZID:Europe/Zurich
BEGIN:STANDARD
DTSTART:20251026T030000
TZOFFSETFROM:+0200
TZOFFSETTO:+0100
END:STANDARD
BEGIN:DAYLIGHT
DTSTART:20260329T010000
TZOFFSETFROM:+0100
TZOFFSETTO:+0200
END:DAYLIGHT
END:VTIMEZONE
BEGIN:VTIMEZONE
TZID:UTC
BEGIN:STANDARD
DTSTART:20250725T123425
TZOFFSETFROM:+0000
TZOFFSETTO:+0000
END:STANDARD
END:VTIMEZONE
BEGIN:VEVENT
UID:c81e728d9d4c2f636f067f89cc14862c
DTSTAMP:20260421T123425Z
DTSTART;TZID=Europe/Zurich:20260220T151606
DTEND;TZID=Europe/Zurich:20260307T062228
SUMMARY:sit repellendus distinctio est quia
DESCRIPTION:Cupiditate consequatur magni at odit qui suscipit alias aut. Op
 tio molestiae numquam voluptate. Autem nihil sint enim exercitationem qui.
  Minima molestias assumenda ex id.
STATUS:CONFIRMED
URL:https://nightly.pfadi-sa.ch/event/2
IMAGE;VALUE=URI;FMTTYPE=image/png;DISPLAY=BADGE:https://nightly.pfadi-sa.ch
 /build/assets/logo-Nx7_9A4W.png
END:VEVENT
END:VCALENDAR