BEGIN:VCALENDAR
VERSION:2.0
PRODID:spatie/icalendar-generator
NAME:Eventkalender et expedita maiores est omnis
X-WR-CALNAME:Eventkalender et expedita maiores est omnis
BEGIN:VTIMEZONE
TZID:Europe/Zurich
BEGIN:STANDARD
DTSTART:20251026T030000
TZOFFSETFROM:+0200
TZOFFSETTO:+0100
END:STANDARD
BEGIN:DAYLIGHT
DTSTART:20260329T010000
TZOFFSETFROM:+0100
TZOFFSETTO:+0200
END:DAYLIGHT
END:VTIMEZONE
BEGIN:VTIMEZONE
TZID:UTC
BEGIN:STANDARD
DTSTART:20250725T125115
TZOFFSETFROM:+0000
TZOFFSETTO:+0000
END:STANDARD
END:VTIMEZONE
BEGIN:VEVENT
UID:1f0e3dad99908345f7439f8ffabdffc4
DTSTAMP:20260421T125115Z
DTSTART;TZID=Europe/Zurich:20260223T141224
DTEND;TZID=Europe/Zurich:20260328T100154
SUMMARY:et expedita maiores est omnis
DESCRIPTION:Esse aut aut impedit dicta optio dolores vitae aut. Sint aut co
 nsequatur quia dolor et. Qui aliquam est sint sint architecto voluptate.
STATUS:CONFIRMED
URL:https://nightly.pfadi-sa.ch/event/19
IMAGE;VALUE=URI;FMTTYPE=image/png;DISPLAY=BADGE:https://nightly.pfadi-sa.ch
 /build/assets/logo-Nx7_9A4W.png
END:VEVENT
END:VCALENDAR