BEGIN:VCALENDAR
VERSION:2.0
PRODID:spatie/icalendar-generator
NAME:Eventkalender debitis cupiditate et id voluptatem
X-WR-CALNAME:Eventkalender debitis cupiditate et id voluptatem
BEGIN:VTIMEZONE
TZID:Europe/Zurich
BEGIN:STANDARD
DTSTART:20251026T030000
TZOFFSETFROM:+0200
TZOFFSETTO:+0100
END:STANDARD
BEGIN:DAYLIGHT
DTSTART:20260329T010000
TZOFFSETFROM:+0100
TZOFFSETTO:+0200
END:DAYLIGHT
END:VTIMEZONE
BEGIN:VTIMEZONE
TZID:UTC
BEGIN:STANDARD
DTSTART:20250725T125115
TZOFFSETFROM:+0000
TZOFFSETTO:+0000
END:STANDARD
END:VTIMEZONE
BEGIN:VEVENT
UID:6f4922f45568161a8cdf4ad2299f6d23
DTSTAMP:20260421T125115Z
DTSTART;TZID=Europe/Zurich:20260316T063108
DTEND;TZID=Europe/Zurich:20260402T131240
SUMMARY:debitis cupiditate et id voluptatem
DESCRIPTION:Laborum unde aperiam architecto aliquam perferendis dolores nem
 o saepe. Perspiciatis sit rerum autem rerum dolorem reiciendis et. Rerum e
 a beatae illo eligendi. Quaerat sit vitae necessitatibus dicta praesentium
  corporis.
STATUS:CONFIRMED
URL:https://nightly.pfadi-sa.ch/event/18
IMAGE;VALUE=URI;FMTTYPE=image/png;DISPLAY=BADGE:https://nightly.pfadi-sa.ch
 /build/assets/logo-Nx7_9A4W.png
END:VEVENT
END:VCALENDAR