BEGIN:VCALENDAR
VERSION:2.0
PRODID:spatie/icalendar-generator
NAME:Eventkalender qui molestiae eveniet rerum eveniet
X-WR-CALNAME:Eventkalender qui molestiae eveniet rerum eveniet
BEGIN:VTIMEZONE
TZID:Europe/Zurich
BEGIN:STANDARD
DTSTART:20251026T030000
TZOFFSETFROM:+0200
TZOFFSETTO:+0100
END:STANDARD
BEGIN:DAYLIGHT
DTSTART:20260329T010000
TZOFFSETFROM:+0100
TZOFFSETTO:+0200
END:DAYLIGHT
END:VTIMEZONE
BEGIN:VTIMEZONE
TZID:UTC
BEGIN:STANDARD
DTSTART:20250725T125126
TZOFFSETFROM:+0000
TZOFFSETTO:+0000
END:STANDARD
END:VTIMEZONE
BEGIN:VEVENT
UID:70efdf2ec9b086079795c442636b55fb
DTSTAMP:20260421T125126Z
DTSTART;TZID=Europe/Zurich:20260211T093214
DTEND;TZID=Europe/Zurich:20260306T091725
SUMMARY:qui molestiae eveniet rerum eveniet
DESCRIPTION:Voluptas mollitia molestiae cupiditate aut et repellat. Sed sae
 pe omnis est porro labore eos et voluptate. Est est et dicta aspernatur ex
 pedita maiores enim. Dolorem iusto modi optio assumenda facilis.
STATUS:CONFIRMED
URL:https://nightly.pfadi-sa.ch/event/17
IMAGE;VALUE=URI;FMTTYPE=image/png;DISPLAY=BADGE:https://nightly.pfadi-sa.ch
 /build/assets/logo-Nx7_9A4W.png
END:VEVENT
END:VCALENDAR