BEGIN:VCALENDAR
VERSION:2.0
PRODID:spatie/icalendar-generator
NAME:Eventkalender deserunt minima possimus iusto totam
X-WR-CALNAME:Eventkalender deserunt minima possimus iusto totam
BEGIN:VTIMEZONE
TZID:Europe/Zurich
BEGIN:STANDARD
DTSTART:20251026T030000
TZOFFSETFROM:+0200
TZOFFSETTO:+0100
END:STANDARD
BEGIN:DAYLIGHT
DTSTART:20260329T010000
TZOFFSETFROM:+0100
TZOFFSETTO:+0200
END:DAYLIGHT
END:VTIMEZONE
BEGIN:VTIMEZONE
TZID:UTC
BEGIN:STANDARD
DTSTART:20250725T124935
TZOFFSETFROM:+0000
TZOFFSETTO:+0000
END:STANDARD
END:VTIMEZONE
BEGIN:VEVENT
UID:c74d97b01eae257e44aa9d5bade97baf
DTSTAMP:20260421T124935Z
DTSTART;TZID=Europe/Zurich:20260219T003141
DTEND;TZID=Europe/Zurich:20260417T124132
SUMMARY:deserunt minima possimus iusto totam
DESCRIPTION:Dignissimos optio dolores ad rem sed. Corrupti quia veniam hic 
 et.
STATUS:CONFIRMED
URL:https://nightly.pfadi-sa.ch/event/16
IMAGE;VALUE=URI;FMTTYPE=image/png;DISPLAY=BADGE:https://nightly.pfadi-sa.ch
 /build/assets/logo-Nx7_9A4W.png
END:VEVENT
END:VCALENDAR