BEGIN:VCALENDAR
VERSION:2.0
PRODID:spatie/icalendar-generator
NAME:Eventkalender facere suscipit aliquam reiciendis deleniti
X-WR-CALNAME:Eventkalender facere suscipit aliquam reiciendis deleniti
BEGIN:VTIMEZONE
TZID:Europe/Zurich
BEGIN:STANDARD
DTSTART:20251026T030000
TZOFFSETFROM:+0200
TZOFFSETTO:+0100
END:STANDARD
BEGIN:DAYLIGHT
DTSTART:20260329T010000
TZOFFSETFROM:+0100
TZOFFSETTO:+0200
END:DAYLIGHT
END:VTIMEZONE
BEGIN:VTIMEZONE
TZID:UTC
BEGIN:STANDARD
DTSTART:20250725T125326
TZOFFSETFROM:+0000
TZOFFSETTO:+0000
END:STANDARD
END:VTIMEZONE
BEGIN:VEVENT
UID:9bf31c7ff062936a96d3c8bd1f8f2ff3
DTSTAMP:20260421T125326Z
DTSTART;TZID=Europe/Zurich:20260206T035044
DTEND;TZID=Europe/Zurich:20260310T024306
SUMMARY:facere suscipit aliquam reiciendis deleniti
DESCRIPTION:Illum quis est culpa qui explicabo ea. Id iste temporibus rerum
  at et dolor. Tempora veritatis in quis commodi eius. Sed dicta facilis ex
  aliquid praesentium.
STATUS:CONFIRMED
URL:https://nightly.pfadi-sa.ch/event/15
IMAGE;VALUE=URI;FMTTYPE=image/png;DISPLAY=BADGE:https://nightly.pfadi-sa.ch
 /build/assets/logo-Nx7_9A4W.png
END:VEVENT
END:VCALENDAR