BEGIN:VCALENDAR
VERSION:2.0
PRODID:spatie/icalendar-generator
NAME:Eventkalender voluptas ratione quia necessitatibus aut
X-WR-CALNAME:Eventkalender voluptas ratione quia necessitatibus aut
BEGIN:VTIMEZONE
TZID:Europe/Zurich
BEGIN:STANDARD
DTSTART:20251026T030000
TZOFFSETFROM:+0200
TZOFFSETTO:+0100
END:STANDARD
BEGIN:DAYLIGHT
DTSTART:20260329T010000
TZOFFSETFROM:+0100
TZOFFSETTO:+0200
END:DAYLIGHT
END:VTIMEZONE
BEGIN:VTIMEZONE
TZID:UTC
BEGIN:STANDARD
DTSTART:20250725T125254
TZOFFSETFROM:+0000
TZOFFSETTO:+0000
END:STANDARD
END:VTIMEZONE
BEGIN:VEVENT
UID:aab3238922bcc25a6f606eb525ffdc56
DTSTAMP:20260421T125254Z
DTSTART;TZID=Europe/Zurich:20260206T180802
DTEND;TZID=Europe/Zurich:20260213T031729
SUMMARY:voluptas ratione quia necessitatibus aut
DESCRIPTION:Qui ea ratione ex perferendis ipsum adipisci ea. Eligendi possi
 mus omnis nulla pariatur. Asperiores voluptate et sunt ut sit. Ut est volu
 ptatibus molestiae qui.
STATUS:CONFIRMED
URL:https://nightly.pfadi-sa.ch/event/14
IMAGE;VALUE=URI;FMTTYPE=image/png;DISPLAY=BADGE:https://nightly.pfadi-sa.ch
 /build/assets/logo-Nx7_9A4W.png
END:VEVENT
END:VCALENDAR