BEGIN:VCALENDAR
VERSION:2.0
PRODID:spatie/icalendar-generator
NAME:Eventkalender et repudiandae quaerat ipsa deserunt
X-WR-CALNAME:Eventkalender et repudiandae quaerat ipsa deserunt
BEGIN:VTIMEZONE
TZID:Europe/Zurich
BEGIN:STANDARD
DTSTART:20251026T030000
TZOFFSETFROM:+0200
TZOFFSETTO:+0100
END:STANDARD
BEGIN:DAYLIGHT
DTSTART:20260329T010000
TZOFFSETFROM:+0100
TZOFFSETTO:+0200
END:DAYLIGHT
END:VTIMEZONE
BEGIN:VTIMEZONE
TZID:UTC
BEGIN:STANDARD
DTSTART:20250725T124643
TZOFFSETFROM:+0000
TZOFFSETTO:+0000
END:STANDARD
END:VTIMEZONE
BEGIN:VEVENT
UID:c51ce410c124a10e0db5e4b97fc2af39
DTSTAMP:20260421T124643Z
DTSTART;TZID=Europe/Zurich:20260302T185104
DTEND;TZID=Europe/Zurich:20260316T145845
SUMMARY:et repudiandae quaerat ipsa deserunt
DESCRIPTION:Dolorum aliquam eius dolor deleniti. Voluptatibus molestiae ita
 que autem ea deleniti qui qui. Ullam voluptate numquam quia labore ipsum v
 oluptas.
STATUS:CONFIRMED
URL:https://nightly.pfadi-sa.ch/event/13
IMAGE;VALUE=URI;FMTTYPE=image/png;DISPLAY=BADGE:https://nightly.pfadi-sa.ch
 /build/assets/logo-Nx7_9A4W.png
END:VEVENT
END:VCALENDAR