BEGIN:VCALENDAR
VERSION:2.0
PRODID:spatie/icalendar-generator
NAME:Eventkalender ea dolorem laborum omnis cumque
X-WR-CALNAME:Eventkalender ea dolorem laborum omnis cumque
BEGIN:VTIMEZONE
TZID:Europe/Zurich
BEGIN:STANDARD
DTSTART:20251026T030000
TZOFFSETFROM:+0200
TZOFFSETTO:+0100
END:STANDARD
BEGIN:DAYLIGHT
DTSTART:20260329T010000
TZOFFSETFROM:+0100
TZOFFSETTO:+0200
END:DAYLIGHT
END:VTIMEZONE
BEGIN:VTIMEZONE
TZID:UTC
BEGIN:STANDARD
DTSTART:20250725T125121
TZOFFSETFROM:+0000
TZOFFSETTO:+0000
END:STANDARD
END:VTIMEZONE
BEGIN:VEVENT
UID:c20ad4d76fe97759aa27a0c99bff6710
DTSTAMP:20260421T125121Z
DTSTART;TZID=Europe/Zurich:20260211T083357
DTEND;TZID=Europe/Zurich:20260315T002801
SUMMARY:ea dolorem laborum omnis cumque
DESCRIPTION:Perspiciatis laborum sit maxime magni deserunt ut consequatur e
 nim. Non sed quaerat officia eaque aut. Dicta quisquam quia eos in. Facere
  rem consequatur fugit consectetur libero.
STATUS:CONFIRMED
URL:https://nightly.pfadi-sa.ch/event/12
IMAGE;VALUE=URI;FMTTYPE=image/png;DISPLAY=BADGE:https://nightly.pfadi-sa.ch
 /build/assets/logo-Nx7_9A4W.png
END:VEVENT
END:VCALENDAR