BEGIN:VCALENDAR
VERSION:2.0
PRODID:spatie/icalendar-generator
NAME:Eventkalender dolore quia non asperiores ipsum
X-WR-CALNAME:Eventkalender dolore quia non asperiores ipsum
BEGIN:VTIMEZONE
TZID:Europe/Zurich
BEGIN:STANDARD
DTSTART:20251026T030000
TZOFFSETFROM:+0200
TZOFFSETTO:+0100
END:STANDARD
BEGIN:DAYLIGHT
DTSTART:20260329T010000
TZOFFSETFROM:+0100
TZOFFSETTO:+0200
END:DAYLIGHT
END:VTIMEZONE
BEGIN:VTIMEZONE
TZID:UTC
BEGIN:STANDARD
DTSTART:20250725T125249
TZOFFSETFROM:+0000
TZOFFSETTO:+0000
END:STANDARD
END:VTIMEZONE
BEGIN:VEVENT
UID:6512bd43d9caa6e02c990b0a82652dca
DTSTAMP:20260421T125249Z
DTSTART;TZID=Europe/Zurich:20260220T001827
DTEND;TZID=Europe/Zurich:20260410T051729
SUMMARY:dolore quia non asperiores ipsum
DESCRIPTION:Quia nam aut ut veniam. Asperiores totam quas natus explicabo r
 epudiandae doloribus quisquam. Soluta dolor adipisci nulla doloremque impe
 dit aut. Facere aut rem a laudantium.
STATUS:CONFIRMED
URL:https://nightly.pfadi-sa.ch/event/11
IMAGE;VALUE=URI;FMTTYPE=image/png;DISPLAY=BADGE:https://nightly.pfadi-sa.ch
 /build/assets/logo-Nx7_9A4W.png
END:VEVENT
END:VCALENDAR