BEGIN:VCALENDAR
VERSION:2.0
PRODID:spatie/icalendar-generator
NAME:Eventkalender ipsam eveniet eius quas voluptates
X-WR-CALNAME:Eventkalender ipsam eveniet eius quas voluptates
BEGIN:VTIMEZONE
TZID:Europe/Zurich
BEGIN:STANDARD
DTSTART:20251026T030000
TZOFFSETFROM:+0200
TZOFFSETTO:+0100
END:STANDARD
BEGIN:DAYLIGHT
DTSTART:20260329T010000
TZOFFSETFROM:+0100
TZOFFSETTO:+0200
END:DAYLIGHT
END:VTIMEZONE
BEGIN:VTIMEZONE
TZID:UTC
BEGIN:STANDARD
DTSTART:20250725T124814
TZOFFSETFROM:+0000
TZOFFSETTO:+0000
END:STANDARD
END:VTIMEZONE
BEGIN:VEVENT
UID:c4ca4238a0b923820dcc509a6f75849b
DTSTAMP:20260421T124814Z
DTSTART;TZID=Europe/Zurich:20260228T184525
DTEND;TZID=Europe/Zurich:20260313T152351
SUMMARY:ipsam eveniet eius quas voluptates
DESCRIPTION:Nihil tempore exercitationem ipsa nulla sed. Tenetur cupiditate
  quis ipsam et ut. Est ut minus quis qui. Mollitia optio sed eaque molesti
 as iusto accusamus quibusdam.
STATUS:CONFIRMED
URL:https://nightly.pfadi-sa.ch/event/1
IMAGE;VALUE=URI;FMTTYPE=image/png;DISPLAY=BADGE:https://nightly.pfadi-sa.ch
 /build/assets/logo-Nx7_9A4W.png
END:VEVENT
END:VCALENDAR